BEGIN:VCALENDAR
VERSION:2.0
PRODID:-//Two-Spirit Michif Local - ECPv6.15.20//NONSGML v1.0//EN
CALSCALE:GREGORIAN
METHOD:PUBLISH
X-WR-CALNAME:Two-Spirit Michif Local
X-ORIGINAL-URL:https://2smichiflocal.ca
X-WR-CALDESC:Events for Two-Spirit Michif Local
REFRESH-INTERVAL;VALUE=DURATION:PT1H
X-Robots-Tag:noindex
X-PUBLISHED-TTL:PT1H
BEGIN:VTIMEZONE
TZID:UTC
BEGIN:STANDARD
TZOFFSETFROM:+0000
TZOFFSETTO:+0000
TZNAME:UTC
DTSTART:20250101T000000
END:STANDARD
END:VTIMEZONE
BEGIN:VEVENT
DTSTART;TZID=UTC:20260324T183000
DTEND;TZID=UTC:20260324T200000
DTSTAMP:20260419T204239
CREATED:20260220T015417Z
LAST-MODIFIED:20260220T015417Z
UID:468-1774377000-1774382400@2smichiflocal.ca
SUMMARY:Two-Spirit Michif Local Meeting - March 24th at 6:30
DESCRIPTION:Please check back for more details closer to the meeting date.
URL:https://2smichiflocal.ca/event/two-spirit-michif-local-meeting-march-24th-at-630/
CATEGORIES:Local Meeting
ORGANIZER;CN="Two-Spirit Michif Local":MAILTO:2SMichifLocal@gmail.ca
END:VEVENT
END:VCALENDAR