BEGIN:VCALENDAR
VERSION:2.0
PRODID:-//Two-Spirit Michif Local - ECPv6.15.20//NONSGML v1.0//EN
CALSCALE:GREGORIAN
METHOD:PUBLISH
X-WR-CALNAME:Two-Spirit Michif Local
X-ORIGINAL-URL:https://2smichiflocal.ca
X-WR-CALDESC:Events for Two-Spirit Michif Local
REFRESH-INTERVAL;VALUE=DURATION:PT1H
X-Robots-Tag:noindex
X-PUBLISHED-TTL:PT1H
BEGIN:VTIMEZONE
TZID:UTC
BEGIN:STANDARD
TZOFFSETFROM:+0000
TZOFFSETTO:+0000
TZNAME:UTC
DTSTART:20250101T000000
END:STANDARD
END:VTIMEZONE
BEGIN:VEVENT
DTSTART;TZID=UTC:20260208T150000
DTEND;TZID=UTC:20260208T200000
DTSTAMP:20260419T123123
CREATED:20260205T213519Z
LAST-MODIFIED:20260205T213519Z
UID:427-1770562800-1770580800@2smichiflocal.ca
SUMMARY:Two-Spirit Michif Collage Night
DESCRIPTION:Please join us this Sunday for an evening of crafts and community. Together\, we’ll plan and create a collaborative art exhibit by and for MMF Citizens. \nThis is a collaborative\, mixed-media art project that is open to all MMF citizens\, especially folks who support the 2SLGBTQIA+ community and all identities that might intersect with ours. \nPlease RSVP HERE to receive location info.
URL:https://2smichiflocal.ca/event/two-spirit-michif-collage-night/
CATEGORIES:Artful MMF Encounter
ORGANIZER;CN="Two-Spirit Michif Local":MAILTO:2SMichifLocal@gmail.ca
END:VEVENT
END:VCALENDAR